BEGIN:VCALENDAR
VERSION:2.0
PRODID:-//Riverside - ECPv6.3.6//NONSGML v1.0//EN
CALSCALE:GREGORIAN
METHOD:PUBLISH
X-WR-CALNAME:Riverside
X-ORIGINAL-URL:https://www.clintonvilleriversidegolf.com
X-WR-CALDESC:Events for Riverside
REFRESH-INTERVAL;VALUE=DURATION:PT1H
X-Robots-Tag:noindex
X-PUBLISHED-TTL:PT1H
BEGIN:VTIMEZONE
TZID:America/Toronto
BEGIN:DAYLIGHT
TZOFFSETFROM:-0500
TZOFFSETTO:-0400
TZNAME:EDT
DTSTART:20260308T070000
END:DAYLIGHT
BEGIN:STANDARD
TZOFFSETFROM:-0400
TZOFFSETTO:-0500
TZNAME:EST
DTSTART:20261101T060000
END:STANDARD
END:VTIMEZONE
BEGIN:VEVENT
DTSTART;VALUE=DATE:20260516
DTEND;VALUE=DATE:20260517
DTSTAMP:20260424T135955
CREATED:20260211T192905Z
LAST-MODIFIED:20260218T225724Z
UID:5385-1778889600-1778975999@www.clintonvilleriversidegolf.com
SUMMARY:Best Ball Bonanza
DESCRIPTION:4-Person Modified Best Ball \nBring your strongest foursome and experience the perfect blend of teamwork and individual excellence in our 4-Man Modified Best Ball event. In this dynamic format\, each team of fourplays 18 holes\, with the team score determined by the two best (lowest) scores from the group. It rewards consistency\, big plays and smart strategy – creating lower team totals and nonstop excitement from the forst tee to the final green. \nExpect competitive yet friendly competition\, scoring opportunities\, and special contests including longest drive\, closest-to-the-pin\, and more. Top teams will compete for impressive cash prizes\, with additional awards for standout individual performances. \nEVENT INFO: \nFormat – 4-Man Modified Best Ball \nRegistration – 7:00 am \nShotgun – 8:00 am \nEntry Fee – $120/person \n(Limited to the first 36 teams)
URL:https://www.clintonvilleriversidegolf.com/event/4-man/
LOCATION:Clintonville Riverside Golf Club\, 100 Club House Drive\, Clintonville\, WI\, 54929\, United States
CATEGORIES:Tournament
END:VEVENT
BEGIN:VEVENT
DTSTART;VALUE=DATE:20260523
DTEND;VALUE=DATE:20260526
DTSTAMP:20260424T135955
CREATED:20260222T233915Z
LAST-MODIFIED:20260222T235003Z
UID:5654-1779494400-1779753599@www.clintonvilleriversidegolf.com
SUMMARY:Memorial Holiday
DESCRIPTION:
URL:https://www.clintonvilleriversidegolf.com/event/memorial-holiday/
LOCATION:Clintonville Riverside Golf Club\, 100 Club House Drive\, Clintonville\, WI\, 54929\, United States
END:VEVENT
END:VCALENDAR