BEGIN:VCALENDAR
VERSION:2.0
PRODID:-//Riverside - ECPv6.3.6//NONSGML v1.0//EN
CALSCALE:GREGORIAN
METHOD:PUBLISH
X-WR-CALNAME:Riverside
X-ORIGINAL-URL:https://www.clintonvilleriversidegolf.com
X-WR-CALDESC:Events for Riverside
REFRESH-INTERVAL;VALUE=DURATION:PT1H
X-Robots-Tag:noindex
X-PUBLISHED-TTL:PT1H
BEGIN:VTIMEZONE
TZID:America/Toronto
BEGIN:DAYLIGHT
TZOFFSETFROM:-0500
TZOFFSETTO:-0400
TZNAME:EDT
DTSTART:20260308T070000
END:DAYLIGHT
BEGIN:STANDARD
TZOFFSETFROM:-0400
TZOFFSETTO:-0500
TZNAME:EST
DTSTART:20261101T060000
END:STANDARD
END:VTIMEZONE
BEGIN:VEVENT
DTSTART;VALUE=DATE:20261010
DTEND;VALUE=DATE:20261011
DTSTAMP:20260425T090809
CREATED:20260212T010119Z
LAST-MODIFIED:20260219T000043Z
UID:5553-1791590400-1791676799@www.clintonvilleriversidegolf.com
SUMMARY:Jirschele Outing
DESCRIPTION:
URL:https://www.clintonvilleriversidegolf.com/event/jirschele-outing/
LOCATION:Clintonville Riverside Golf Club\, 100 Club House Drive\, Clintonville\, WI\, 54929\, United States
CATEGORIES:Outings
END:VEVENT
BEGIN:VEVENT
DTSTART;VALUE=DATE:20261024
DTEND;VALUE=DATE:20261025
DTSTAMP:20260425T090809
CREATED:20260212T010041Z
LAST-MODIFIED:20260218T235931Z
UID:5550-1792800000-1792886399@www.clintonvilleriversidegolf.com
SUMMARY:Spooktacular
DESCRIPTION:Grab your costumes\, rally your crew\, and get ready for a frightfully fun afternoon on the course. Our Halloween themed 4‑Person Scramble kicks off at 12:00 PM\, bringing nine holes of laughs\, strategy\, and spirited competition. \nWhether you show up as ghosts\, goblins\, or golfers with a spooky twist\, this event is all about creativity\, camaraderie\, and enjoying the game in true Halloween style. With the scramble format\, every shot counts—and every team has a chance to conjure up a winning round. \nExpect festive vibes\, playful challenges\, and plenty of treats along the way. It’s the perfect blend of golf and Halloween fun. \nCostumes encouraged. Good times guaranteed. See you on the tee box at noon!
URL:https://www.clintonvilleriversidegolf.com/event/spooktacular/
LOCATION:Clintonville Riverside Golf Club\, 100 Club House Drive\, Clintonville\, WI\, 54929\, United States
CATEGORIES:Tournament
END:VEVENT
END:VCALENDAR