BEGIN:VCALENDAR
VERSION:2.0
PRODID:-//Riverside - ECPv6.3.6//NONSGML v1.0//EN
CALSCALE:GREGORIAN
METHOD:PUBLISH
X-WR-CALNAME:Riverside
X-ORIGINAL-URL:https://www.clintonvilleriversidegolf.com
X-WR-CALDESC:Events for Riverside
REFRESH-INTERVAL;VALUE=DURATION:PT1H
X-Robots-Tag:noindex
X-PUBLISHED-TTL:PT1H
BEGIN:VTIMEZONE
TZID:America/Toronto
BEGIN:DAYLIGHT
TZOFFSETFROM:-0500
TZOFFSETTO:-0400
TZNAME:EDT
DTSTART:20260308T070000
END:DAYLIGHT
BEGIN:STANDARD
TZOFFSETFROM:-0400
TZOFFSETTO:-0500
TZNAME:EST
DTSTART:20261101T060000
END:STANDARD
END:VTIMEZONE
BEGIN:VEVENT
DTSTART;VALUE=DATE:20260829
DTEND;VALUE=DATE:20260830
DTSTAMP:20260425T080108
CREATED:20260211T173004Z
LAST-MODIFIED:20260218T235745Z
UID:5331-1787961600-1788047999@www.clintonvilleriversidegolf.com
SUMMARY:Riverside Big Cup
DESCRIPTION:Join fellow golfers for 18 holes of enhanced fun\, great camaraderie\,\, and memorable moments at Riverside Golf course – one of the best in central Wisconsin. \nThis exciting event features a 4-person scramble\, 8-inch cups across the entire course\, spectacular scoring opportunities\, friendly competition\, and special contests including long drive\, closest-to-the-pin\, and more. Top teams will compete for cash prizes with additional awards for standout performances. \n  \nEVENT DETAILS: \nAugust 29th\, 2026 \n9:00 Registration \n10:00 Shotgun \nEntry Fee  – TBD \n(Spots are limited to the first 36 teams to sign up) 
URL:https://www.clintonvilleriversidegolf.com/event/big-cup-2026/
LOCATION:Clintonville Riverside Golf Club\, 100 Club House Drive\, Clintonville\, WI\, 54929\, United States
CATEGORIES:Tournament
END:VEVENT
BEGIN:VEVENT
DTSTART;VALUE=DATE:20260905
DTEND;VALUE=DATE:20260908
DTSTAMP:20260425T080108
CREATED:20260222T234437Z
LAST-MODIFIED:20260222T234437Z
UID:5660-1788566400-1788825599@www.clintonvilleriversidegolf.com
SUMMARY:Labor Day Weekend
DESCRIPTION:
URL:https://www.clintonvilleriversidegolf.com/event/labor-day-weekend/
LOCATION:WI
END:VEVENT
BEGIN:VEVENT
DTSTART;VALUE=DATE:20260912
DTEND;VALUE=DATE:20260913
DTSTAMP:20260425T080108
CREATED:20260212T005457Z
LAST-MODIFIED:20260219T150308Z
UID:5535-1789171200-1789257599@www.clintonvilleriversidegolf.com
SUMMARY:The Cove Outing
DESCRIPTION:
URL:https://www.clintonvilleriversidegolf.com/event/the-cove-outing/
LOCATION:Clintonville Riverside Golf Club\, 100 Club House Drive\, Clintonville\, WI\, 54929\, United States
CATEGORIES:Outings
END:VEVENT
BEGIN:VEVENT
DTSTART;VALUE=DATE:20260919
DTEND;VALUE=DATE:20260920
DTSTAMP:20260425T080108
CREATED:20260212T005558Z
LAST-MODIFIED:20260219T150034Z
UID:5538-1789776000-1789862399@www.clintonvilleriversidegolf.com
SUMMARY:QB Club Outing
DESCRIPTION:
URL:https://www.clintonvilleriversidegolf.com/event/qb-club-outing/
LOCATION:Clintonville Riverside Golf Club\, 100 Club House Drive\, Clintonville\, WI\, 54929\, United States
CATEGORIES:Outings
END:VEVENT
BEGIN:VEVENT
DTSTART;VALUE=DATE:20260923
DTEND;VALUE=DATE:20260924
DTSTAMP:20260425T080108
CREATED:20260212T005739Z
LAST-MODIFIED:20260219T145959Z
UID:5544-1790121600-1790207999@www.clintonvilleriversidegolf.com
SUMMARY:Stalker Flooring Outing
DESCRIPTION:
URL:https://www.clintonvilleriversidegolf.com/event/stalker-flooring-outing/
LOCATION:Clintonville Riverside Golf Club\, 100 Club House Drive\, Clintonville\, WI\, 54929\, United States
CATEGORIES:Outings
END:VEVENT
BEGIN:VEVENT
DTSTART;VALUE=DATE:20260926
DTEND;VALUE=DATE:20260927
DTSTAMP:20260425T080108
CREATED:20260212T005644Z
LAST-MODIFIED:20260219T145917Z
UID:5541-1790380800-1790467199@www.clintonvilleriversidegolf.com
SUMMARY:BABA Outing
DESCRIPTION:
URL:https://www.clintonvilleriversidegolf.com/event/baba-outing/
LOCATION:Clintonville Riverside Golf Club\, 100 Club House Drive\, Clintonville\, WI\, 54929\, United States
END:VEVENT
BEGIN:VEVENT
DTSTART;VALUE=DATE:20261003
DTEND;VALUE=DATE:20261005
DTSTAMP:20260425T080108
CREATED:20190501T042342Z
LAST-MODIFIED:20260219T145711Z
UID:4749-1790985600-1791158399@www.clintonvilleriversidegolf.com
SUMMARY:Al Steichen Fall Classic
DESCRIPTION:Al Steichen Fall Classic \nGet ready for an unforgettable weekend of competition as the 2026 Fall Classic tees off on October 3–4\, 2026. This two‑day\, 36‑hole showdown brings together 2‑man teams to battle across multiple formats that will test every part of their game. \nAcross the two rounds\, teams will navigate a dynamic mix of play—opening with the power and teamwork of scramble\, shifting into the precision and strategy of best ball\, and finishing with the pressure-packed intensity of a modified alternate shot. Every hole brings a new opportunity to shine\, strategize\, and outplay the field. \nWhether you’re chasing glory\, bragging rights\, or just an incredible weekend on the course\, this event promises competition\, camaraderie\, and clutch moments from start to finish. \nMark your calendars. Build your team. The challenge awaits. \n  \nDetails to come
URL:https://www.clintonvilleriversidegolf.com/event/course-closed-fall-classic-2/
LOCATION:Clintonville Riverside Golf Club\, 100 Club House Drive\, Clintonville\, WI\, 54929\, United States
CATEGORIES:Tournament
END:VEVENT
BEGIN:VEVENT
DTSTART;VALUE=DATE:20261010
DTEND;VALUE=DATE:20261011
DTSTAMP:20260425T080108
CREATED:20260212T010119Z
LAST-MODIFIED:20260219T000043Z
UID:5553-1791590400-1791676799@www.clintonvilleriversidegolf.com
SUMMARY:Jirschele Outing
DESCRIPTION:
URL:https://www.clintonvilleriversidegolf.com/event/jirschele-outing/
LOCATION:Clintonville Riverside Golf Club\, 100 Club House Drive\, Clintonville\, WI\, 54929\, United States
CATEGORIES:Outings
END:VEVENT
BEGIN:VEVENT
DTSTART;VALUE=DATE:20261024
DTEND;VALUE=DATE:20261025
DTSTAMP:20260425T080108
CREATED:20260212T010041Z
LAST-MODIFIED:20260218T235931Z
UID:5550-1792800000-1792886399@www.clintonvilleriversidegolf.com
SUMMARY:Spooktacular
DESCRIPTION:Grab your costumes\, rally your crew\, and get ready for a frightfully fun afternoon on the course. Our Halloween themed 4‑Person Scramble kicks off at 12:00 PM\, bringing nine holes of laughs\, strategy\, and spirited competition. \nWhether you show up as ghosts\, goblins\, or golfers with a spooky twist\, this event is all about creativity\, camaraderie\, and enjoying the game in true Halloween style. With the scramble format\, every shot counts—and every team has a chance to conjure up a winning round. \nExpect festive vibes\, playful challenges\, and plenty of treats along the way. It’s the perfect blend of golf and Halloween fun. \nCostumes encouraged. Good times guaranteed. See you on the tee box at noon!
URL:https://www.clintonvilleriversidegolf.com/event/spooktacular/
LOCATION:Clintonville Riverside Golf Club\, 100 Club House Drive\, Clintonville\, WI\, 54929\, United States
CATEGORIES:Tournament
END:VEVENT
END:VCALENDAR