BEGIN:VCALENDAR
VERSION:2.0
PRODID:-//Riverside - ECPv6.3.6//NONSGML v1.0//EN
CALSCALE:GREGORIAN
METHOD:PUBLISH
X-ORIGINAL-URL:https://www.clintonvilleriversidegolf.com
X-WR-CALDESC:Events for Riverside
REFRESH-INTERVAL;VALUE=DURATION:PT1H
X-Robots-Tag:noindex
X-PUBLISHED-TTL:PT1H
BEGIN:VTIMEZONE
TZID:America/Toronto
BEGIN:DAYLIGHT
TZOFFSETFROM:-0500
TZOFFSETTO:-0400
TZNAME:EDT
DTSTART:20260308T070000
END:DAYLIGHT
BEGIN:STANDARD
TZOFFSETFROM:-0400
TZOFFSETTO:-0500
TZNAME:EST
DTSTART:20261101T060000
END:STANDARD
END:VTIMEZONE
BEGIN:VEVENT
DTSTART;VALUE=DATE:20260418
DTEND;VALUE=DATE:20260420
DTSTAMP:20260424T122816
CREATED:20260211T200303Z
LAST-MODIFIED:20260219T160956Z
UID:5383-1776470400-1776643199@www.clintonvilleriversidegolf.com
SUMMARY:Scramble Showdown
DESCRIPTION:Riverside Scramble Showdown – Season Opener \nKick off the new golf season in the best possible way – with your favorite partner and 36 holes (2 days) of fast-paced\, high energy fun! \nOur 2-Man Scramble format brings out the best in every team: both players hit from the tee\, choose the netter shot\, and continue that rotation until the ball is holed. Its the perfect mix of teamwork\, strategy\, and big scoring opportunities that keeps the round exciting from start to finish. \nWhether you’re a seasoned duo or new partners ready to create some memories\, this event is designed for great golf\, plenty of laughs\, and that unmistakable opening day buzz. \nSpecial contests will include long drive\, closest-to-the-pin\, and more\, with cash prizes awarded tot he top teams and standout performances. Post round refreshments and lunch will cap off a perfect golf weekend! \nSaturday \nPrice \n\n$175/person (plus $20 skins)\n$50 for second day player pool (optional)\n(Entry fee includes golf\, tee gift\, and brunch Sunday morning)\n\nRegistration – 9:00 am \nShotgun – 10:00 am \n(ala carte lunch options at the turn) \nSunday \nBrunch – 8:30 am \nShotgun – 10:00 am \n(Spots will be limited to the first 72 teams)
URL:https://www.clintonvilleriversidegolf.com/event/scramble-showdown/
LOCATION:Clintonville Riverside Golf Club\, 100 Club House Drive\, Clintonville\, WI\, 54929\, United States
CATEGORIES:Tournament
END:VEVENT
BEGIN:VEVENT
DTSTART;VALUE=DATE:20260411
DTEND;VALUE=DATE:20260412
DTSTAMP:20260424T122816
CREATED:20260211T190102Z
LAST-MODIFIED:20260219T152034Z
UID:5380-1775865600-1775951999@www.clintonvilleriversidegolf.com
SUMMARY:Bingo!
DESCRIPTION:Fun day out\, great prizes\, and plenty of laughs. Grab your friends and come play! \n\nEvent goes from 1:00-4:00pm
URL:https://www.clintonvilleriversidegolf.com/event/bingo-3/
LOCATION:Clintonville Riverside Golf Club\, 100 Club House Drive\, Clintonville\, WI\, 54929\, United States
CATEGORIES:Club House Events
END:VEVENT
BEGIN:VEVENT
DTSTART;VALUE=DATE:20260405
DTEND;VALUE=DATE:20260406
DTSTAMP:20260424T122816
CREATED:20260211T194641Z
LAST-MODIFIED:20260219T152215Z
UID:5420-1775347200-1775433599@www.clintonvilleriversidegolf.com
SUMMARY:Easter Brunch
DESCRIPTION:Celebrate Easter with a relaxed\, family-friendly brunch at Riverside Golf course. Enjoy a fresh buffet featuring classic breakfast classics\, carved meats\, and sweet desserts\, all served with beautiful course views and a welcoming atmosphere. \nBring the whole Family for great food\, good company\, and a memorable start to your holiday! \nCall today to make a reservation! \nBrunch is served 9:00a-1:00p
URL:https://www.clintonvilleriversidegolf.com/event/easter-brunch/
LOCATION:Clintonville Riverside Golf Club\, 100 Club House Drive\, Clintonville\, WI\, 54929\, United States
CATEGORIES:Club House Events
END:VEVENT
BEGIN:VEVENT
DTSTART;VALUE=DATE:20260404
DTEND;VALUE=DATE:20260405
DTSTAMP:20260424T122816
CREATED:20260211T185953Z
LAST-MODIFIED:20260219T152329Z
UID:5375-1775260800-1775347199@www.clintonvilleriversidegolf.com
SUMMARY:Triva
DESCRIPTION:Join us for a fun day of laughs\, friendly competition and great company! \n\nTrivia runs from 1:00-3:00
URL:https://www.clintonvilleriversidegolf.com/event/triva/
LOCATION:Clintonville Riverside Golf Club\, 100 Club House Drive\, Clintonville\, WI\, 54929\, United States
CATEGORIES:Club House Events
END:VEVENT
BEGIN:VEVENT
DTSTART;VALUE=DATE:20260321
DTEND;VALUE=DATE:20260322
DTSTAMP:20260424T122816
CREATED:20260211T184610Z
LAST-MODIFIED:20260219T152518Z
UID:5365-1774051200-1774137599@www.clintonvilleriversidegolf.com
SUMMARY:Bingo!
DESCRIPTION:Fun day out\, great prizes\, and plenty of laughs. Grab your friends and come play! \n\n\n\n\n\n\nBingo! runs from 1:00-4:00
URL:https://www.clintonvilleriversidegolf.com/event/bingo-2/
CATEGORIES:Club House Events
END:VEVENT
BEGIN:VEVENT
DTSTART;VALUE=DATE:20260307
DTEND;VALUE=DATE:20260308
DTSTAMP:20260424T122816
CREATED:20260211T182617Z
LAST-MODIFIED:20260219T152642Z
UID:5352-1772841600-1772927999@www.clintonvilleriversidegolf.com
SUMMARY:Trivia
DESCRIPTION:Join us for a fun day of laughs\, friendly competition and great company! \nTrivia runs from 1:00-3:00
URL:https://www.clintonvilleriversidegolf.com/event/trivia/
LOCATION:Clintonville Riverside Golf Club\, 100 Club House Drive\, Clintonville\, WI\, 54929\, United States
CATEGORIES:Club House Events
END:VEVENT
BEGIN:VEVENT
DTSTART;VALUE=DATE:20260228
DTEND;VALUE=DATE:20260301
DTSTAMP:20260424T122816
CREATED:20260211T181758Z
LAST-MODIFIED:20260219T153002Z
UID:5344-1772236800-1772323199@www.clintonvilleriversidegolf.com
SUMMARY:Painting with Sara M.
DESCRIPTION:Books\, Petals\, & Pages \n$35 Class per person ($5 credit for the bar / menu) \nPlease call to reserve your spot today! \nPainting Class runs from 6:00-8:30pm
URL:https://www.clintonvilleriversidegolf.com/event/painting-with-sara-m/
LOCATION:Clintonville Riverside Golf Club\, 100 Club House Drive\, Clintonville\, WI\, 54929\, United States
CATEGORIES:Club House Events
END:VEVENT
BEGIN:VEVENT
DTSTART;TZID=America/Toronto:20260221T130000
DTEND;TZID=America/Toronto:20260221T160000
DTSTAMP:20260424T122816
CREATED:20260211T165058Z
LAST-MODIFIED:20260211T182313Z
UID:5293-1771678800-1771689600@www.clintonvilleriversidegolf.com
SUMMARY:Bingo!
DESCRIPTION:Fun day out\, great prizes\, and plenty of laughs. Grab your friends and come play!
URL:https://www.clintonvilleriversidegolf.com/event/bingo/
LOCATION:Clintonville Riverside Golf Club\, 100 Club House Drive\, Clintonville\, WI\, 54929\, United States
CATEGORIES:Club House Events
END:VEVENT
END:VCALENDAR