BEGIN:VCALENDAR
VERSION:2.0
PRODID:-//Riverside - ECPv6.3.6//NONSGML v1.0//EN
CALSCALE:GREGORIAN
METHOD:PUBLISH
X-WR-CALNAME:Riverside
X-ORIGINAL-URL:https://www.clintonvilleriversidegolf.com
X-WR-CALDESC:Events for Riverside
REFRESH-INTERVAL;VALUE=DURATION:PT1H
X-Robots-Tag:noindex
X-PUBLISHED-TTL:PT1H
BEGIN:VTIMEZONE
TZID:America/Toronto
BEGIN:DAYLIGHT
TZOFFSETFROM:-0500
TZOFFSETTO:-0400
TZNAME:EDT
DTSTART:20260308T070000
END:DAYLIGHT
BEGIN:STANDARD
TZOFFSETFROM:-0400
TZOFFSETTO:-0500
TZNAME:EST
DTSTART:20261101T060000
END:STANDARD
END:VTIMEZONE
BEGIN:VEVENT
DTSTART;VALUE=DATE:20260411
DTEND;VALUE=DATE:20260412
DTSTAMP:20260424T142216
CREATED:20260211T190102Z
LAST-MODIFIED:20260219T152034Z
UID:5380-1775865600-1775951999@www.clintonvilleriversidegolf.com
SUMMARY:Bingo!
DESCRIPTION:Fun day out\, great prizes\, and plenty of laughs. Grab your friends and come play! \n\nEvent goes from 1:00-4:00pm
URL:https://www.clintonvilleriversidegolf.com/event/bingo-3/
LOCATION:Clintonville Riverside Golf Club\, 100 Club House Drive\, Clintonville\, WI\, 54929\, United States
CATEGORIES:Club House Events
END:VEVENT
END:VCALENDAR